{
 "currentVersion": 10.61,
 "serviceDescription": "NewBaseMap Version 2",
 "mapName": "Layers",
 "description": "",
 "copyrightText": "",
 "supportsDynamicLayers": true,
 "layers": [
  {
   "id": 0,
   "name": "NewBaseMap",
   "parentLayerId": -1,
   "defaultVisibility": true,
   "subLayerIds": null,
   "minScale": 0,
   "maxScale": 0
  }
 ],
 "tables": [],
 "spatialReference": {
  "wkid": 32640,
  "latestWkid": 32640
 },
 "singleFusedMapCache": true,
 "tileInfo": {
  "rows": 256,
  "cols": 256,
  "dpi": 96,
  "format": "PNG24",
  "compressionQuality": 0,
  "origin": {
   "x": -5120900,
   "y": 9998100
  },
  "spatialReference": {
   "wkid": 32640,
   "latestWkid": 32640
  },
  "lods": [
   {
    "level": 0,
    "resolution": 1322.9193125052918,
    "scale": 5000000
   },
   {
    "level": 1,
    "resolution": 661.4596562526459,
    "scale": 2500000
   },
   {
    "level": 2,
    "resolution": 330.72982812632296,
    "scale": 1250000
   },
   {
    "level": 3,
    "resolution": 198.43789687579377,
    "scale": 750000
   },
   {
    "level": 4,
    "resolution": 85.98975531284397,
    "scale": 325000
   },
   {
    "level": 5,
    "resolution": 33.0729828126323,
    "scale": 125000
   },
   {
    "level": 6,
    "resolution": 15.875031750063501,
    "scale": 60000
   },
   {
    "level": 7,
    "resolution": 7.9375158750317505,
    "scale": 30000
   },
   {
    "level": 8,
    "resolution": 3.9687579375158752,
    "scale": 15000
   },
   {
    "level": 9,
    "resolution": 1.7197951062568793,
    "scale": 6500
   },
   {
    "level": 10,
    "resolution": 0.9260435187537043,
    "scale": 3500
   },
   {
    "level": 11,
    "resolution": 0.476250952501905,
    "scale": 1800
   },
   {
    "level": 12,
    "resolution": 0.26458386250105836,
    "scale": 1000
   },
   {
    "level": 13,
    "resolution": 0.13229193125052918,
    "scale": 500
   }
  ]
 },
 "initialExtent": {
  "xmin": -1759263.2685384466,
  "ymin": 3550604.1243333095,
  "xmax": 147857.2123691818,
  "ymax": 3937954.899034859,
  "spatialReference": {
   "wkid": 32640,
   "latestWkid": 32640
  }
 },
 "fullExtent": {
  "xmin": -681707.0215999996,
  "ymin": 2218234.3236,
  "xmax": 1077227.3715000004,
  "ymax": 3175801.0898,
  "spatialReference": {
   "wkid": 32640,
   "latestWkid": 32640
  }
 },
 "minScale": 0,
 "maxScale": 0,
 "units": "esriMeters",
 "supportedImageFormatTypes": "PNG32,PNG24,PNG,JPG,DIB,TIFF,EMF,PS,PDF,GIF,SVG,SVGZ,BMP",
 "documentInfo": {
  "Title": "NewBaseMap",
  "Author": "ADM SDD GIS",
  "Comments": "NewBaseMap Version 2",
  "Subject": "",
  "Category": "",
  "AntialiasingMode": "None",
  "TextAntialiasingMode": "Force",
  "Keywords": "NewBaseMap"
 },
 "capabilities": "Map",
 "supportedQueryFormats": "JSON, AMF, geoJSON",
 "exportTilesAllowed": false,
 "datumTransformations": [
  {
   "geoTransforms": [
    {
     "wkid": 108001,
     "latestWkid": 1241,
     "transformForward": true,
     "name": "NAD_1927_To_NAD_1983_NADCON"
    }
   ]
  },
  {
   "geoTransforms": [
    {
     "wkid": 108001,
     "latestWkid": 1241,
     "transformForward": false,
     "name": "NAD_1927_To_NAD_1983_NADCON"
    }
   ]
  }
 ],
 "supportsDatumTransformation": true,
 "maxRecordCount": 1000,
 "maxImageHeight": 4096,
 "maxImageWidth": 4096,
 "supportedExtensions": ""
}
